BEGIN:VCALENDAR
VERSION:2.0
PRODID:-//hacksw/handcal//NONSGML v1.0//EN
BEGIN:VEVENT
SUMMARY:Finale R1 Play-Off R1 (places de 5 a 8) - Petite finale 11-BCN-1 R1 contre 12-BAM-1 R1
UID:b988d475-cd16-4cb7-864a-dfcfa2078b06
DTSTART:20260412T120000Z
DTEND:20260412T220000Z
LOCATION:Localisation   
CATEGORIES:Sportif
STATUS:
URL;VALUE=URI:https://www.badaumonas.org/evenements/2026/04/12/finale-r1-play-off-r1-places-de-5-a-8-petite-finale-11-bcn-1-r1-contre-12-bam-1-r1-2443847
END:VEVENT
END:VCALENDAR
