BEGIN:VCALENDAR
VERSION:2.0
PRODID:-//hacksw/handcal//NONSGML v1.0//EN
BEGIN:VEVENT
SUMMARY:Demi finale 2 D3 D3 classement 1er, 2eme, 3eme, 4eme 12-CBR-4 D3 contre 12-BAM-4 D3
UID:caed424d-9a30-49a0-a36c-c38205272520
DTSTART:20260411T220000Z
DTEND:20260412T220000Z
LOCATION:Localisation   
CATEGORIES:Sportif
STATUS:
URL;VALUE=URI:https://www.badaumonas.org/evenements/2026/04/12/demi-finale-2-d3-d3-classement-1er-2eme-3eme-4eme-12-cbr-4-d3-contre-12-bam-4-d3-2443849
END:VEVENT
END:VCALENDAR
