BEGIN:VCALENDAR
VERSION:2.0
PRODID:-//hacksw/handcal//NONSGML v1.0//EN
BEGIN:VEVENT
SUMMARY:3eime Place D3 D3 classement 1er, 2eme, 3eme, 4eme 12-CCAC-1 D3 contre 12-BAM-4 D3
UID:8777a068-618a-4e24-b689-60afab1dd970
DTSTART:20260411T220000Z
DTEND:20260412T220000Z
LOCATION:Localisation   
CATEGORIES:Sportif
STATUS:
URL;VALUE=URI:https://www.badaumonas.org/evenements/2026/04/12/3eime-place-d3-d3-classement-1er-2eme-3eme-4eme-12-ccac-1-d3-contre-12-bam-4-d3-2443848
END:VEVENT
END:VCALENDAR
