BEGIN:VCALENDAR
VERSION:2.0
PRODID:-//hacksw/handcal//NONSGML v1.0//EN
BEGIN:VEVENT
SUMMARY:D5 D5 12-BAM-6 D5 contre 12-GBC-2 D5
UID:b92fa6b9-c66b-41e1-9b14-eaab88440851
DTSTART:20260118T090000Z
DTEND:20260118T230000Z
LOCATION:Localisation   
CATEGORIES:Sportif
STATUS:
URL;VALUE=URI:https://www.badaumonas.org/evenements/2026/01/18/d5-d5-12-bam-6-d5-contre-12-gbc-2-d5-2418079
END:VEVENT
END:VCALENDAR
