BEGIN:VCALENDAR
VERSION:2.0
PRODID:-//hacksw/handcal//NONSGML v1.0//EN
BEGIN:VEVENT
SUMMARY:D4 D4 12-CBR-6 D4 contre 12-BAM-5 D4
UID:95581f84-4890-4ec2-a347-672727b2f990
DTSTART:20260118T130000Z
DTEND:20260118T230000Z
LOCATION:Localisation   
CATEGORIES:Sportif
STATUS:
URL;VALUE=URI:https://www.badaumonas.org/evenements/2026/01/18/d4-d4-12-cbr-6-d4-contre-12-bam-5-d4-2418074
END:VEVENT
END:VCALENDAR
