BEGIN:VCALENDAR
VERSION:2.0
PRODID:-//hacksw/handcal//NONSGML v1.0//EN
BEGIN:VEVENT
SUMMARY:D3 D3 A 12-BAM-4 D3 contre 48-BCM-2 D3
UID:717539d3-64bd-4e9a-8bbf-1a62034e65a4
DTSTART:20260118T130000Z
DTEND:20260118T230000Z
LOCATION:Localisation   
CATEGORIES:Sportif
STATUS:
URL;VALUE=URI:https://www.badaumonas.org/evenements/2026/01/18/d3-d3-a-12-bam-4-d3-contre-48-bcm-2-d3-2418075
END:VEVENT
END:VCALENDAR
