BEGIN:VCALENDAR
VERSION:2.0
PRODID:-//hacksw/handcal//NONSGML v1.0//EN
BEGIN:VEVENT
SUMMARY:D1 D1 12-BAM-2 D1 contre 48-BCBG-2 D1
UID:a86d8f06-a9f0-45af-8b15-ae6e8063ac00
DTSTART:20260118T090000Z
DTEND:20260118T230000Z
LOCATION:Localisation   
CATEGORIES:Sportif
STATUS:
URL;VALUE=URI:https://www.badaumonas.org/evenements/2026/01/18/d1-d1-12-bam-2-d1-contre-48-bcbg-2-d1-2418083
END:VEVENT
END:VCALENDAR
