BEGIN:VCALENDAR
VERSION:2.0
PRODID:-//hacksw/handcal//NONSGML v1.0//EN
BEGIN:VEVENT
SUMMARY:D4 D4 12-CBR-5 D4 contre 12-BAM-5 D4
UID:d4ecfa47-5674-4249-b504-cc6b41b1c3a4
DTSTART:20251214T130000Z
DTEND:20251214T230000Z
LOCATION:Localisation   
CATEGORIES:Sportif
STATUS:
URL;VALUE=URI:https://www.badaumonas.org/evenements/2025/12/14/d4-d4-12-cbr-5-d4-contre-12-bam-5-d4-2418086
END:VEVENT
END:VCALENDAR
