BEGIN:VCALENDAR
VERSION:2.0
PRODID:-//hacksw/handcal//NONSGML v1.0//EN
BEGIN:VEVENT
SUMMARY:D1 D1 12-BAM-2 D1 contre 12-OBAD-2 D1
UID:bccaa334-39a6-48db-b85f-914589d05261
DTSTART:20251214T090000Z
DTEND:20251214T230000Z
LOCATION:Localisation   
CATEGORIES:Sportif
STATUS:
URL;VALUE=URI:https://www.badaumonas.org/evenements/2025/12/14/d1-d1-12-bam-2-d1-contre-12-obad-2-d1-2418094
END:VEVENT
END:VCALENDAR
